BEGIN:VCALENDAR
VERSION:2.0
PRODID:-//CVM Steesel - ECPv4.8.0.1//NONSGML v1.0//EN
CALSCALE:GREGORIAN
METHOD:PUBLISH
X-WR-CALNAME:CVM Steesel
X-ORIGINAL-URL:http://www.cvmsteesel.lu
X-WR-CALDESC:Veranstaltungen für CVM Steesel
BEGIN:VEVENT
DTSTART;VALUE=DATE:20190830
DTEND;VALUE=DATE:20190901
DTSTAMP:20190822T010435
CREATED:20181227T170624Z
LAST-MODIFIED:20190615T102643Z
UID:1132-1567123200-1567295999@www.cvmsteesel.lu
SUMMARY:11. Meeting CVM Steesel
DESCRIPTION: \n\n\nFür weitere Informationen bitte hier klicken:\nMeeting 2019\n\n
URL:http://www.cvmsteesel.lu/event/11-meeting-cvm-steesel/
LOCATION:Steinsel Centre de Loisirs\, 62 rue de l'Alzette\, Steinsel\, 7305\, Luxemburg
END:VEVENT
END:VCALENDAR