BEGIN:VCALENDAR
VERSION:2.0
PRODID:-//CVM Steesel - ECPv5.2.1//NONSGML v1.0//EN
CALSCALE:GREGORIAN
METHOD:PUBLISH
X-WR-CALNAME:CVM Steesel
X-ORIGINAL-URL:http://www.cvmsteesel.lu
X-WR-CALDESC:Veranstaltungen für CVM Steesel
BEGIN:VTIMEZONE
TZID:Europe/Berlin
BEGIN:DAYLIGHT
TZOFFSETFROM:+0100
TZOFFSETTO:+0200
TZNAME:CEST
DTSTART:20190331T010000
END:DAYLIGHT
BEGIN:STANDARD
TZOFFSETFROM:+0200
TZOFFSETTO:+0100
TZNAME:CET
DTSTART:20191027T010000
END:STANDARD
END:VTIMEZONE
BEGIN:VEVENT
DTSTART;VALUE=DATE:20190809
DTEND;VALUE=DATE:20190812
DTSTAMP:20201211T111559
CREATED:20190313T182811Z
LAST-MODIFIED:20190313T182811Z
UID:1163-1565308800-1565567999@www.cvmsteesel.lu
SUMMARY:35. Quadriga Meeting
DESCRIPTION:
URL:http://www.cvmsteesel.lu/event/35-quadriga-meeting/
END:VEVENT
END:VCALENDAR