BEGIN:VCALENDAR
VERSION:2.0
PRODID:-//CVM Steesel - ECPv5.2.1//NONSGML v1.0//EN
CALSCALE:GREGORIAN
METHOD:PUBLISH
X-WR-CALNAME:CVM Steesel
X-ORIGINAL-URL:http://www.cvmsteesel.lu
X-WR-CALDESC:Veranstaltungen für CVM Steesel
BEGIN:VTIMEZONE
TZID:Europe/Berlin
BEGIN:DAYLIGHT
TZOFFSETFROM:+0100
TZOFFSETTO:+0200
TZNAME:CEST
DTSTART:20170326T010000
END:DAYLIGHT
BEGIN:STANDARD
TZOFFSETFROM:+0200
TZOFFSETTO:+0100
TZNAME:CET
DTSTART:20171029T010000
END:STANDARD
END:VTIMEZONE
BEGIN:VEVENT
DTSTART;VALUE=DATE:20170707
DTEND;VALUE=DATE:20170710
DTSTAMP:20201211T111337
CREATED:20170130T201238Z
LAST-MODIFIED:20170510T174049Z
UID:824-1499385600-1499644799@www.cvmsteesel.lu
SUMMARY:7. Int. Militaerfahrzeugtreffen der RAG 6014
DESCRIPTION:7. Int. Militärfahrzeugtreffen der RAG 6014 \n(D)   Saarlouis
URL:http://www.cvmsteesel.lu/event/7-int-militaerfahrzeugtreffen-der-rag-6014/
END:VEVENT
END:VCALENDAR