BEGIN:VCALENDAR
VERSION:2.0
PRODID:-//CVM Steesel - ECPv5.2.1//NONSGML v1.0//EN
CALSCALE:GREGORIAN
METHOD:PUBLISH
X-WR-CALNAME:CVM Steesel
X-ORIGINAL-URL:http://www.cvmsteesel.lu
X-WR-CALDESC:Veranstaltungen für CVM Steesel
BEGIN:VTIMEZONE
TZID:Europe/Berlin
BEGIN:DAYLIGHT
TZOFFSETFROM:+0100
TZOFFSETTO:+0200
TZNAME:CEST
DTSTART:20180325T010000
END:DAYLIGHT
BEGIN:STANDARD
TZOFFSETFROM:+0200
TZOFFSETTO:+0100
TZNAME:CET
DTSTART:20181028T010000
END:STANDARD
END:VTIMEZONE
BEGIN:VEVENT
DTSTART;VALUE=DATE:20180727
DTEND;VALUE=DATE:20180730
DTSTAMP:20201211T111400
CREATED:20180429T114316Z
LAST-MODIFIED:20180429T114316Z
UID:1062-1532649600-1532908799@www.cvmsteesel.lu
SUMMARY:Greisch
DESCRIPTION:
URL:http://www.cvmsteesel.lu/event/greisch/
END:VEVENT
END:VCALENDAR