BEGIN:VCALENDAR
VERSION:2.0
PRODID:-//CVM Steesel - ECPv5.2.1//NONSGML v1.0//EN
CALSCALE:GREGORIAN
METHOD:PUBLISH
X-WR-CALNAME:CVM Steesel
X-ORIGINAL-URL:http://www.cvmsteesel.lu
X-WR-CALDESC:Veranstaltungen für CVM Steesel
BEGIN:VTIMEZONE
TZID:Europe/Berlin
BEGIN:DAYLIGHT
TZOFFSETFROM:+0100
TZOFFSETTO:+0200
TZNAME:CEST
DTSTART:20190331T010000
END:DAYLIGHT
BEGIN:STANDARD
TZOFFSETFROM:+0200
TZOFFSETTO:+0100
TZNAME:CET
DTSTART:20191027T010000
END:STANDARD
END:VTIMEZONE
BEGIN:VEVENT
DTSTART;VALUE=DATE:20190510
DTEND;VALUE=DATE:20190513
DTSTAMP:20201211T111606
CREATED:20190501T110212Z
LAST-MODIFIED:20190501T110212Z
UID:1239-1557446400-1557705599@www.cvmsteesel.lu
SUMMARY:Westwallmuseum Konz
DESCRIPTION:
URL:http://www.cvmsteesel.lu/event/westwallmuseum-konz-2/
END:VEVENT
END:VCALENDAR