BEGIN:VCALENDAR
VERSION:2.0
PRODID:-//CVM Steesel - ECPv4.8.0.1//NONSGML v1.0//EN
CALSCALE:GREGORIAN
METHOD:PUBLISH
X-WR-CALNAME:CVM Steesel
X-ORIGINAL-URL:http://www.cvmsteesel.lu
X-WR-CALDESC:Veranstaltungen für CVM Steesel
BEGIN:VEVENT
DTSTART;TZID=Europe/Berlin:20170625T090000
DTEND;TZID=Europe/Berlin:20170625T180000
DTSTAMP:20190822T010409
CREATED:20160620T170604Z
LAST-MODIFIED:20170623T111610Z
UID:363-1498381200-1498413600@www.cvmsteesel.lu
SUMMARY:Young & Oldtimerday
DESCRIPTION:Young & Oldtimer Day \nCentre de Loisirs  \nSteesel \n \n
URL:http://www.cvmsteesel.lu/event/young-oldtimerday/
LOCATION:Steinsel Centre de Loisirs\, 62 rue de l'Alzette\, Steinsel\, 7305\, Luxemburg
END:VEVENT
END:VCALENDAR