BEGIN:VCALENDAR
VERSION:2.0
PRODID:-//CVM Steesel - ECPv6.13.2.1//NONSGML v1.0//EN
CALSCALE:GREGORIAN
METHOD:PUBLISH
X-WR-CALNAME:CVM Steesel
X-ORIGINAL-URL:https://www.cvmsteesel.lu
X-WR-CALDESC:Veranstaltungen für CVM Steesel
REFRESH-INTERVAL;VALUE=DURATION:PT1H
X-Robots-Tag:noindex
X-PUBLISHED-TTL:PT1H
BEGIN:VTIMEZONE
TZID:Europe/Berlin
BEGIN:DAYLIGHT
TZOFFSETFROM:+0100
TZOFFSETTO:+0200
TZNAME:CEST
DTSTART:20250330T010000
END:DAYLIGHT
BEGIN:STANDARD
TZOFFSETFROM:+0200
TZOFFSETTO:+0100
TZNAME:CET
DTSTART:20251026T010000
END:STANDARD
END:VTIMEZONE
BEGIN:VEVENT
DTSTART;VALUE=DATE:20250814
DTEND;VALUE=DATE:20250818
DTSTAMP:20260420T194452
CREATED:20250220T182721Z
LAST-MODIFIED:20250220T185234Z
UID:2017-1755129600-1755475199@www.cvmsteesel.lu
SUMMARY:CVM 15th international Meeting
DESCRIPTION:
URL:https://www.cvmsteesel.lu/event/cvm-15th-international-meeting/
LOCATION:Steinsel Centre de Loisirs\, 62 rue de l'Alzette\, Steinsel\, 7305\, Luxemburg
ATTACH;FMTTYPE=image/jpeg:https://www.cvmsteesel.lu/wp-content/uploads/2025/02/CVM_Meeting_2025-e1740077479736.jpg
END:VEVENT
END:VCALENDAR